BEGIN:VCALENDAR
VERSION:2.0
PRODID:spatie/icalendar-generator
DESCRIPTION:Events from Southrim Management
X-WR-CALDESC:Events from Southrim Management
REFRESH-INTERVAL;VALUE=DURATION:PT1440M
X-PUBLISHED-TTL:PT1440M
BEGIN:VTIMEZONE
TZID:Etc/GMT+0
BEGIN:STANDARD
DTSTART:20250710T120000Z
TZOFFSETFROM:+0000
TZOFFSETTO:+0000
END:STANDARD
END:VTIMEZONE
BEGIN:VTIMEZONE
TZID:UTC
BEGIN:STANDARD
DTSTART:20250728T154629Z
TZOFFSETFROM:+0000
TZOFFSETTO:+0000
END:STANDARD
END:VTIMEZONE
BEGIN:VEVENT
UID:578-570
DTSTAMP:20260424T154629Z
SUMMARY:Being Self Sufficient and Planning for the Hard Times Ahead
LOCATION:
ORGANIZER;CN=Gayle:MAILTO:gayle@southrimhomes.com
DTSTART;TZID=Etc/GMT+0:20260406T120000
DTEND;TZID=Etc/GMT+0:20260406T130000
X-ALT-DESC;FMTTYPE=TEXT/HTML:Being Self Sufficient and Planning for the Har
 d Times Ahead (Heritage Village)
CATEGORIES:General
URL;VALUE=URI:https://srr-pm.com/mc-events/being-self-sufficient-and-planni
 ng-for-the-hard-times-ahead-3/
METHOD:PUBLISH
END:VEVENT
END:VCALENDAR