BEGIN:VCALENDAR
VERSION:2.0
PRODID:spatie/icalendar-generator
DESCRIPTION:Events from Southrim Management
X-WR-CALDESC:Events from Southrim Management
REFRESH-INTERVAL;VALUE=DURATION:PT1440M
X-PUBLISHED-TTL:PT1440M
BEGIN:VTIMEZONE
TZID:Etc/GMT+0
BEGIN:STANDARD
DTSTART:20250726T190000Z
TZOFFSETFROM:+0000
TZOFFSETTO:+0000
END:STANDARD
END:VTIMEZONE
BEGIN:VTIMEZONE
TZID:UTC
BEGIN:STANDARD
DTSTART:20250728T154724Z
TZOFFSETFROM:+0000
TZOFFSETTO:+0000
END:STANDARD
END:VTIMEZONE
BEGIN:VEVENT
UID:568-560
DTSTAMP:20260424T154724Z
SUMMARY:Game Night
LOCATION:
ORGANIZER;CN=Gayle:MAILTO:gayle@southrimhomes.com
DTSTART;TZID=Etc/GMT+0:20260422T190000
DTEND;TZID=Etc/GMT+0:20260422T200000
X-ALT-DESC;FMTTYPE=TEXT/HTML:Game Night (Heritage Village)
CATEGORIES:General
URL;VALUE=URI:https://srr-pm.com/mc-events/game-night-76/
METHOD:PUBLISH
END:VEVENT
END:VCALENDAR