BEGIN:VCALENDAR
VERSION:2.0
PRODID:spatie/icalendar-generator
DESCRIPTION:Events from Southrim Management
X-WR-CALDESC:Events from Southrim Management
REFRESH-INTERVAL;VALUE=DURATION:PT1440M
X-PUBLISHED-TTL:PT1440M
BEGIN:VTIMEZONE
TZID:Etc/GMT+0
BEGIN:STANDARD
DTSTART:20250726T100000Z
TZOFFSETFROM:+0000
TZOFFSETTO:+0000
END:STANDARD
END:VTIMEZONE
BEGIN:VTIMEZONE
TZID:UTC
BEGIN:STANDARD
DTSTART:20250728T154715Z
TZOFFSETFROM:+0000
TZOFFSETTO:+0000
END:STANDARD
END:VTIMEZONE
BEGIN:VEVENT
UID:560-552
DTSTAMP:20260424T154715Z
SUMMARY:This N' That
LOCATION:
ORGANIZER;CN=Gayle:MAILTO:gayle@southrimhomes.com
DTSTART;TZID=Etc/GMT+0:20260422T100000
DTEND;TZID=Etc/GMT+0:20260422T110000
X-ALT-DESC;FMTTYPE=TEXT/HTML:This N' That (Heritage Village)
CATEGORIES:General
URL;VALUE=URI:https://srr-pm.com/mc-events/this-n-that-12/
METHOD:PUBLISH
END:VEVENT
END:VCALENDAR