BEGIN:VCALENDAR
VERSION:2.0
PRODID:spatie/icalendar-generator
DESCRIPTION:Events from Southrim Management
X-WR-CALDESC:Events from Southrim Management
REFRESH-INTERVAL;VALUE=DURATION:PT1440M
X-PUBLISHED-TTL:PT1440M
BEGIN:VTIMEZONE
TZID:Etc/GMT+0
BEGIN:STANDARD
DTSTART:20250710T083000Z
TZOFFSETFROM:+0000
TZOFFSETTO:+0000
END:STANDARD
END:VTIMEZONE
BEGIN:VTIMEZONE
TZID:UTC
BEGIN:STANDARD
DTSTART:20250728T154724Z
TZOFFSETFROM:+0000
TZOFFSETTO:+0000
END:STANDARD
END:VTIMEZONE
BEGIN:VEVENT
UID:534-526
DTSTAMP:20260424T154724Z
SUMMARY:Exercise Class
LOCATION:
ORGANIZER;CN=Gayle:MAILTO:gayle@southrimhomes.com
DTSTART;TZID=Etc/GMT+0:20260406T083000
DTEND;TZID=Etc/GMT+0:20260406T090000
X-ALT-DESC;FMTTYPE=TEXT/HTML:Exercise Class (Heritage Village)
CATEGORIES:General
URL;VALUE=URI:https://srr-pm.com/mc-events/exercise-class-224/
METHOD:PUBLISH
END:VEVENT
END:VCALENDAR