BEGIN:VCALENDAR
VERSION:2.0
PRODID:spatie/icalendar-generator
DESCRIPTION:Events from Southrim Management
X-WR-CALDESC:Events from Southrim Management
REFRESH-INTERVAL;VALUE=DURATION:PT1440M
X-PUBLISHED-TTL:PT1440M
BEGIN:VTIMEZONE
TZID:Etc/GMT+0
BEGIN:STANDARD
DTSTART:20250722T110000Z
TZOFFSETFROM:+0000
TZOFFSETTO:+0000
END:STANDARD
END:VTIMEZONE
BEGIN:VTIMEZONE
TZID:UTC
BEGIN:STANDARD
DTSTART:20250728T160232Z
TZOFFSETFROM:+0000
TZOFFSETTO:+0000
END:STANDARD
END:VTIMEZONE
BEGIN:VEVENT
UID:531-521
DTSTAMP:20260424T160232Z
SUMMARY:Clubhouse Reserved-Renzello
LOCATION:
ORGANIZER;CN=Gayle:MAILTO:gayle@southrimhomes.com
DTSTART;TZID=Etc/GMT+0:20260418T110000
DTEND;TZID=Etc/GMT+0:20260418T170000
X-ALT-DESC;FMTTYPE=TEXT/HTML:Clubhouse Reserved-Renzello (Heritage Village)
CATEGORIES:General
URL;VALUE=URI:https://srr-pm.com/mc-events/clubhouse-reserved-renzello/
METHOD:PUBLISH
END:VEVENT
END:VCALENDAR